BEGIN:VCALENDAR
VERSION:2.0
PRODID:-//pretix//kieztix//
BEGIN:VTIMEZONE
TZID:Europe/Berlin
BEGIN:STANDARD
DTSTART:20001029T040000
RRULE:FREQ=YEARLY;BYDAY=-1SU;BYMONTH=10
TZNAME:CET
TZOFFSETFROM:+0200
TZOFFSETTO:+0100
END:STANDARD
BEGIN:DAYLIGHT
DTSTART:20000326T030000
RRULE:FREQ=YEARLY;BYDAY=-1SU;BYMONTH=3
TZNAME:CEST
TZOFFSETFROM:+0100
TZOFFSETTO:+0200
END:DAYLIGHT
END:VTIMEZONE
BEGIN:VEVENT
UID:pretix-burn-night-burnhalla-0@pretix.kiezburn.org
DTSTART;TZID=Europe/Berlin:20260131T120000
DTEND;TZID=Europe/Berlin:20260201T120000
DESCRIPTION:Tickets: https://pretix.kiezburn.org/burn-night/burnhalla/\nEin
 lass: 31.01.2026 12:00\nVeranstalter: Burn Night
DTSTAMP:20260421T035505Z
LOCATION:MaHalla\, Wilhelminenhofstraße 76\, 12459 Berlin
SUMMARY:BurnHalla - Lost in Layers
END:VEVENT
END:VCALENDAR
